BEGIN:VCALENDAR
VERSION:2.0
PRODID:-//wp-events-plugin.com//7.2.3.1//EN
BEGIN:VEVENT
UID:290@southmaincreative.com
DTSTART;TZID=America/Chicago:20240225T130000
DTEND;TZID=America/Chicago:20240225T153000
DTSTAMP:20240131T212109Z
URL:https://southmaincreative.com/classes/amish-knot-round-rug-with-molly-
 7/
SUMMARY:Amish Knot Round Rug with Molly
DESCRIPTION:\n\nJoin Molly\, a juried member of the Arkansas Craft Guild\, 
 for this fun textile class! Learn how to use colorful fabric scraps to mak
 e a small 8" Amish Knot Round Rug that is machine washable. This Scandinav
 ian knotting technique of rug making uses only half the fabric of a tradit
 ional braided rug\, and regained popularity during the Depression as a way
  to reuse fabrics and save money. What a great way to engage in slow decor
 ating! Once you learn\, use your fabrics that have been gathering dust in 
 the corner or go thrifting to find pretty fabrics to recycle. Then you’l
 l be on your way to making larger sizes! Ages 12+\, please.\n\nMaterials f
 ee covers a small rug starter kit with core fabric\, pretty scraps\, and a
  needle.\n\nSunday\, February 25    1:00 PM - 3:30 PM\n\nClass fee is $5
 5. A materials fee of $25 will be due to teacher at time of class.\n\nSpac
 es are limited\; online registration &amp\; payment are required to reserv
 e your spot. No refunds.
CATEGORIES:Crafts Classes,DIY Classes
LOCATION:South Main Creative\, 1600 Main Street\, Little Rock\, Arkansas\, 
 72206\, United States
GEO:34.73335;-92.27327
X-APPLE-STRUCTURED-LOCATION;VALUE=URI;X-ADDRESS=1600 Main Street\, Little R
 ock\, Arkansas\, 72206\, United States;X-APPLE-RADIUS=100;X-TITLE=South Ma
 in Creative:geo:34.73335,-92.27327
END:VEVENT
BEGIN:VTIMEZONE
TZID:America/Chicago
X-LIC-LOCATION:America/Chicago
BEGIN:STANDARD
DTSTART:20231105T010000
TZOFFSETFROM:-0500
TZOFFSETTO:-0600
TZNAME:CST
END:STANDARD
END:VTIMEZONE
END:VCALENDAR