BEGIN:VCALENDAR
VERSION:2.0
PRODID:-//wp-events-plugin.com//7.2.3.1//EN
BEGIN:VEVENT
UID:183@southmaincreative.com
DTSTART:20191026T190000Z
DTEND:20191026T220000Z
DTSTAMP:20190922T203418Z
URL:https://southmaincreative.com/classes/amish-knot-round-rug-with-molly-
 mcvey-5/
SUMMARY:Amish Knot Round Rug with Molly McVey
DESCRIPTION:\n\nJoin Molly\, a juried member of the Arkansas Craft Guild\, 
 for this fun textile class! Learn how to use colorful fabric scraps to mak
 e a small 8" Amish Knot Round Rug that is machine washable. This Scandinav
 ian knotting technique of rug making uses only half the fabric of a tradit
 ional braided rug\, and regained popularity during the Depression as a way
  to reuse fabrics and save money. What a great way to engage in slow decor
 ating! Once you learn\, use your fabrics that have been gathering dust in 
 the corner or go thrifting to find pretty fabrics to recycle. Then you’l
 l be on your way to making larger sizes! Materials fee covers a small rug 
 starter kit with core fabric\, pretty scraps\, and a needle.\n\nSaturday O
 ctober 26\, 2019\, 1:00 PM-4:00 PM\n\nClass fee is $55. A materials fee of
  $25 will be due to teacher at time of class.\n\nSpaces are limited\; onli
 ne registration &amp\; payment are required to reserve your spot.
CATEGORIES:Crafts Classes,DIY Classes
LOCATION:South Main Creative\, 1600 Main Street\, Little Rock\, Arkansas\, 
 72206\, United States
GEO:34.73335;-92.27327
X-APPLE-STRUCTURED-LOCATION;VALUE=URI;X-ADDRESS=1600 Main Street\, Little R
 ock\, Arkansas\, 72206\, United States;X-APPLE-RADIUS=100;X-TITLE=South Ma
 in Creative:geo:34.73335,-92.27327
END:VEVENT
END:VCALENDAR