BEGIN:VCALENDAR
VERSION:2.0
PRODID:-//wp-events-plugin.com//7.2.3.1//EN
BEGIN:VEVENT
UID:112@southmaincreative.com
DTSTART:20180621T233000Z
DTEND:20180622T013000Z
DTSTAMP:20180606T160310Z
URL:https://southmaincreative.com/classes/bandana-rama-painting-and-dyeing
 -fabric/
SUMMARY:Bandana-rama: Painting and Dyeing Fabric with Dondi Warren of Delta
  Gilt
DESCRIPTION:\n\nGrab your bff for this fun class to make your own hand-pain
 ted/dyed cotton bandana! Use as a scarf or do-rag and once you know how\, 
 you can make several as gifts or even sets of picnic napkins. This techniq
 ue is also good for use on other natural fabrics and even garments! Age 12
 +\, please.\n\nMaterials fee includes 1 pre-washed white cotton bandana\, 
 and the use of dyes\, mixes\, paints\, and other materials to produce one 
 finished bandana.\n.\n\nThursday June 21\, 2018\, 5:30 PM-7:30 PM\n\nClass
  fee is $25. A materials fee of $6 will be due to teacher at time of class
 .\n\nSpaces are limited\; online registration &amp\; payment are required 
 to reserve your spot.
CATEGORIES:Art Classes,Crafts Classes,DIY Classes
LOCATION:South Main Creative\, 1600 Main Street\, Little Rock\, Arkansas\, 
 72206\, United States
GEO:34.73335;-92.27327
X-APPLE-STRUCTURED-LOCATION;VALUE=URI;X-ADDRESS=1600 Main Street\, Little R
 ock\, Arkansas\, 72206\, United States;X-APPLE-RADIUS=100;X-TITLE=South Ma
 in Creative:geo:34.73335,-92.27327
END:VEVENT
END:VCALENDAR