BEGIN:VCALENDAR
VERSION:2.0
PRODID:-//wp-events-plugin.com//7.2.3.1//EN
BEGIN:VEVENT
UID:322@southmaincreative.com
DTSTART;TZID=America/Chicago:20260110T100000
DTEND;TZID=America/Chicago:20260117T113000
DTSTAMP:20251214T171858Z
URL:https://southmaincreative.com/classes/beginner-knitting-with-sam-9/
SUMMARY:Beginner Knitting with Sam
DESCRIPTION:\n\nToo cold outside? We agree! Come get cozy in our Beginner K
 nitting class. Sam Stadter\, certified knitting instructor with Craft Yarn
  Council\, teaches this introductory class for beginners or those with onl
 y a little bit of experience. Over the course of two sessions\, Sam will c
 over basic knitting stitches and techniques. By the end of the class\, stu
 dents will complete their own classic scarf or cowl! $30 Materials fee (du
 e to Sam at class time) covers 5 skeins of wool yarn in white\, pink\, gre
 en\, or blue (enough to make your project) and 1 pair of knitting needles.
  Age 7+\, please.\n\nSpaces are limited. Registration by December 27 is re
 quired. No refunds.\n\nSaturday\, January 10 AND Saturday\, January 17 10:
 00 a.m. -11:30 a.m.\n\n&nbsp\;\n\n&nbsp\;\n\n&nbsp\;\n\n&nbsp\;\n\n&nbsp\;
CATEGORIES:Crafts Classes
LOCATION:South Main Creative\, 1600 Main Street\, Little Rock\, Arkansas\, 
 72206\, United States
GEO:34.73335;-92.27327
X-APPLE-STRUCTURED-LOCATION;VALUE=URI;X-ADDRESS=1600 Main Street\, Little R
 ock\, Arkansas\, 72206\, United States;X-APPLE-RADIUS=100;X-TITLE=South Ma
 in Creative:geo:34.73335,-92.27327
END:VEVENT
BEGIN:VTIMEZONE
TZID:America/Chicago
X-LIC-LOCATION:America/Chicago
BEGIN:STANDARD
DTSTART:20251102T010000
TZOFFSETFROM:-0500
TZOFFSETTO:-0600
TZNAME:CST
END:STANDARD
END:VTIMEZONE
END:VCALENDAR