BEGIN:VCALENDAR
VERSION:2.0
PRODID:-//wp-events-plugin.com//7.2.3.1//EN
BEGIN:VEVENT
UID:137@southmaincreative.com
DTSTART:20190216T190000Z
DTEND:20190216T220000Z
DTSTAMP:20190214T164438Z
URL:https://southmaincreative.com/classes/brush-lettering-101-with-amy-dav
 is-4/
SUMMARY:Brush Lettering 101 with Amy Davis
DESCRIPTION:\n\nIn this beginner class\, Amy Davis of @aboutthatink teaches
  the basics of modern brush calligraphy. You will become familiar with dif
 ferent tools of the trade\, hand holds\, paper matters\, and drills as wel
 l as the alphabet. Your materials fee gets you supplies for class use and 
 some of Amy's favorites to keep you going. No experience necessary! Even i
 f you think your handwriting is so bad you could never learn brush calligr
 aphy\, Amy promises with practice you CAN learn! Expect a super fun and re
 laxed environment.\nMust know cursive. Age 12+\, please.\n\nSaturday\, Feb
 ruary 16\, 2019\, 1:00 PM-4:00 PM\n\nClass fee is $75. A materials fee of 
 $30 will be due to teacher at time of class.\n\nSpaces are limited\; onlin
 e registration &amp\; payment are required to reserve your spot.\n\n&nbsp\
 ;\n\n&nbsp\;\n\n&nbsp\;\n\n&nbsp\;
CATEGORIES:Art Classes,Crafts Classes,DIY Classes
LOCATION:South Main Creative\, 1600 Main Street\, Little Rock\, Arkansas\, 
 72206\, United States
GEO:34.73335;-92.27327
X-APPLE-STRUCTURED-LOCATION;VALUE=URI;X-ADDRESS=1600 Main Street\, Little R
 ock\, Arkansas\, 72206\, United States;X-APPLE-RADIUS=100;X-TITLE=South Ma
 in Creative:geo:34.73335,-92.27327
END:VEVENT
END:VCALENDAR