BEGIN:VCALENDAR
VERSION:2.0
PRODID:-//wp-events-plugin.com//7.2.3.1//EN
BEGIN:VEVENT
UID:269@southmaincreative.com
DTSTART;TZID=America/Chicago:20221002T130000
DTEND;TZID=America/Chicago:20221002T160000
DTSTAMP:20220908T204443Z
URL:https://southmaincreative.com/classes/cyanotype-workshop-with-margo/
SUMMARY:Cyanotype Workshop with Margo
DESCRIPTION:\n\nLearn the art of the sun print with Margo Duvall. Margo ear
 ned her master's degree of fine arts in photography from San Jose State Un
 iversity. Cyanotype is a photographic printing process that harnesses the 
 power of the sun to create cyan colored photographs- the original "bluepri
 nt." This course is hands on\, experimental\, and a little bit messy (in t
 he best way). We'll use digital and film based negatives to produce one-of
 -a-kind alternative photos on both paper and fabric. This course is perfec
 t for all levels... no photo experience necessary.\n\nMaterials fee includ
 es: papers\, fabric\, cyanotype and fixing solutions\, brushes\, miscellan
 eous printing items\, and other supplies.\n\nItems to bring:\nSmall transl
 ucent items\, interesting flowers or plants\, lace or fabric scraps\, smal
 l film negatives. This process can be messy. Wear old clothes and consider
  bringing an apron and gloves.\n\nMasks Required\n\nSunday October 2\, 202
 2\, 1:00 PM-4:00 PM\n\nClass fee is $80. A materials fee of $20 will be du
 e to teacher at time of class.\n\nSpaces are limited\; online registration
  &amp\; payment are required to reserve your spot. No refunds.
CATEGORIES:Art Classes,Crafts Classes,DIY Classes
LOCATION:South Main Creative\, 1600 Main Street\, Little Rock\, Arkansas\, 
 72206\, United States
GEO:34.73335;-92.27327
X-APPLE-STRUCTURED-LOCATION;VALUE=URI;X-ADDRESS=1600 Main Street\, Little R
 ock\, Arkansas\, 72206\, United States;X-APPLE-RADIUS=100;X-TITLE=South Ma
 in Creative:geo:34.73335,-92.27327
END:VEVENT
BEGIN:VTIMEZONE
TZID:America/Chicago
X-LIC-LOCATION:America/Chicago
BEGIN:DAYLIGHT
DTSTART:20220313T030000
TZOFFSETFROM:-0600
TZOFFSETTO:-0500
TZNAME:CDT
END:DAYLIGHT
END:VTIMEZONE
END:VCALENDAR