BEGIN:VCALENDAR
VERSION:2.0
PRODID:-//wp-events-plugin.com//7.2.3.1//EN
BEGIN:VEVENT
UID:58@southmaincreative.com
DTSTART:20170909T170000Z
DTEND:20170910T210000Z
DTSTAMP:20170825T235148Z
URL:https://southmaincreative.com/classes/eco-dyed-paper-and-altered-journ
 al/
SUMMARY:Eco-Dyed Paper and Altered Journal
DESCRIPTION:\n\nEco-dying is an exciting technique using natural elements s
 uch as flowers\, leaves\, rusty metal and other items to create amazing co
 lors and textures on paper or fabric. Learn the fabulous technique of eco-
 dying paper in this two-part class. On Saturday\, you will layer\, stack\,
  bind\, and boil watercolor papers with your natural elements to use in an
  altered journal of your own. While your papers boil\, begin to transform 
 an ordinary journal into a work of art with your paints\, gesso\, found ob
 jects\, fabric scraps\, ephemera\, and personal mementos.  Sunday‘s tec
 hniques include inserting the dyed papers\, cutting\, riveting\, sewing\, 
 gluing\, layering\, painting\, and tying to reveal a journal of your visio
 n!\n\nBring items of your own such as collected fresh leaves and flowers\,
  ephemera\, found objects\, flat metal pieces\, beads\, buttons\, leather\
 , fabric\, paints\, metallic antiquing wax. You will need to bring a glue 
 gun (with glue)\, a bone folder\, and a small awl.\n\nMaterials fee will i
 nclude watercolor paper\, journal\, string\, rivets\, wire\, fabric\, and 
 leaves\, flowers\, and tools to share.\n\nSaturday September 9\, 11 AM - 3
  PM AND  Sunday September 10\,  12 - 3 PM\n\nClass cost is $100. A mater
 ials fee of $25 will be due to teacher at time of class. Spaces are limite
 d\, registration is required.
CATEGORIES:Art Classes,Crafts Classes,DIY Classes
LOCATION:South Main Creative\, 1600 Main Street\, Little Rock\, Arkansas\, 
 72206\, United States
GEO:34.73335;-92.27327
X-APPLE-STRUCTURED-LOCATION;VALUE=URI;X-ADDRESS=1600 Main Street\, Little R
 ock\, Arkansas\, 72206\, United States;X-APPLE-RADIUS=100;X-TITLE=South Ma
 in Creative:geo:34.73335,-92.27327
END:VEVENT
END:VCALENDAR