BEGIN:VCALENDAR
VERSION:2.0
PRODID:-//wp-events-plugin.com//7.2.3.1//EN
BEGIN:VEVENT
UID:234@southmaincreative.com
DTSTART;TZID=America/Chicago:20210925T140000
DTEND;TZID=America/Chicago:20210925T160000
DTSTAMP:20210914T194839Z
URL:https://southmaincreative.com/classes/embroidery-beyond-basics-w-susan
 -3/
SUMMARY:Embroidery Beyond Basics with Susan
DESCRIPTION:\n\nJoin Susan of SWS Makes to take your embroidery to the next
  step. This class is geared for those who have some embroidery experience 
 and want to learn more stitches. Ideally\, the student will already know S
 atin Stitch\, French Knot\, Running Stitch\, Backstitch and Straight Stitc
 h (but if you’re missing one or two\, don’t worry\, you’ll still do 
 fine!) Ages 12+\, please.\n\nWe will cover the following stitches in a cut
 e little floral scene:\n· Stem\n· Chain\n· Lazy Daisy\n· Couching\n· 
 Blanket\n· Long &amp\; Short\n· Spider Web\n\nMaterials fee includes: Fa
 bric\, floss\, hoop\, needle\, and instruction booklet for you to take hom
 e. (Please bring a pair of small sharp scissors.)\n\nClass is limited to 4
  participants to allow for distancing. Masks required.\n\nSaturday Septemb
 er 25\, 2021\, 2:00 PM-4:00 PM\n\nClass fee is $35. A materials fee of $15
  will be due to teacher at time of class.\n\nSpaces are limited\; online r
 egistration &amp\; payment are required to reserve your spot. No refunds.
CATEGORIES:Crafts Classes,DIY Classes
LOCATION:South Main Creative\, 1600 Main Street\, Little Rock\, Arkansas\, 
 72206\, United States
GEO:34.73335;-92.27327
X-APPLE-STRUCTURED-LOCATION;VALUE=URI;X-ADDRESS=1600 Main Street\, Little R
 ock\, Arkansas\, 72206\, United States;X-APPLE-RADIUS=100;X-TITLE=South Ma
 in Creative:geo:34.73335,-92.27327
END:VEVENT
BEGIN:VTIMEZONE
TZID:America/Chicago
X-LIC-LOCATION:America/Chicago
BEGIN:DAYLIGHT
DTSTART:20210314T030000
TZOFFSETFROM:-0600
TZOFFSETTO:-0500
TZNAME:CDT
END:DAYLIGHT
END:VTIMEZONE
END:VCALENDAR