BEGIN:VCALENDAR
VERSION:2.0
PRODID:-//wp-events-plugin.com//7.2.3.1//EN
BEGIN:VEVENT
UID:200@southmaincreative.com
DTSTART:20210619T200000Z
DTEND:20210619T220000Z
DTSTAMP:20210617T171440Z
URL:https://southmaincreative.com/classes/embroidery-with-susan/
SUMMARY:Embroidery Basics with Susan
DESCRIPTION:\n\nLearn the basics of embroidery in this fun and innovative c
 lass. You’ll be able to begin stitching almost immediately by applying s
 hortcuts that eliminate much of the prep work. Join instructor Susan Sulli
 van of SWS Makes as she shares all of the rules and how to successfully br
 eak them to create one-of-a-kind embroidered treasures using floral fabric
  as a ready-made pattern. And you’ll learn a neat trick for quick\, inex
 pensive framing. This class will show you new ways to look at this Victori
 an art form!\nMaterials fee includes fabric\, floss\, hoop\, needle\, back
 ing felt and instruction booklet for you to take home.\nClass is limited t
 o 4 participants to allow for distancing. Masks required.\n\nSaturday June
  19\, 2021\, 2:00 PM-4:00 PM\n\nClass fee is $35. A materials fee of $15 w
 ill be due to teacher at time of class.\n\nSpaces are limited\; online reg
 istration &amp\; payment are required to reserve your spot. No refunds.\n\
 n&nbsp\;
CATEGORIES:Crafts Classes,DIY Classes,Support Small Business
LOCATION:South Main Creative\, 1600 Main Street\, Little Rock\, Arkansas\, 
 72206\, United States
GEO:34.73335;-92.27327
X-APPLE-STRUCTURED-LOCATION;VALUE=URI;X-ADDRESS=1600 Main Street\, Little R
 ock\, Arkansas\, 72206\, United States;X-APPLE-RADIUS=100;X-TITLE=South Ma
 in Creative:geo:34.73335,-92.27327
END:VEVENT
END:VCALENDAR