BEGIN:VCALENDAR
VERSION:2.0
PRODID:-//wp-events-plugin.com//7.2.3.1//EN
BEGIN:VEVENT
UID:212@southmaincreative.com
DTSTART:20200408T000000Z
DTEND:20200408T020000Z
DTSTAMP:20200317T234704Z
URL:https://southmaincreative.com/classes/handmade-cards-w-peace-love-pati
 na/
SUMMARY:Handmade Cards w/Peace Love Patina
DESCRIPTION:\n\nHere's a great opportunity to learn about Iron Orchid Desig
 ns stamps\, ink\, and transfers AND DIY Clay Paint from our favorite explo
 ratory maker Kim of Peace Love Patina! Kim will introduce the class to the
 se fun products then students get to explore while making their very own o
 ne-of-a-kind greeting cards. Once you get the knack\, you'll want to embel
 lish ALL the things! Class participants receive discounts on products from
  Kim's Peace Love Patina booth.\n\nMaterials fee covers 5 cards with envel
 opes\, use of paints\, inks\, transfers\, and stamps\, and all tools neces
 sary to complete your projects.\n\nTuesday April 7\, 2020\, 6:00 PM-8:00 P
 M\n\nClass fee is $25. A materials fee of $10 will be due to teacher at ti
 me of class.\n\nSpaces are limited\; online registration &amp\; payment ar
 e required to reserve your spot. No Refunds.
CATEGORIES:Crafts Classes,DIY Classes
LOCATION:South Main Creative\, 1600 Main Street\, Little Rock\, Arkansas\, 
 72206\, United States
GEO:34.73335;-92.27327
X-APPLE-STRUCTURED-LOCATION;VALUE=URI;X-ADDRESS=1600 Main Street\, Little R
 ock\, Arkansas\, 72206\, United States;X-APPLE-RADIUS=100;X-TITLE=South Ma
 in Creative:geo:34.73335,-92.27327
END:VEVENT
END:VCALENDAR