BEGIN:VCALENDAR
VERSION:2.0
PRODID:-//wp-events-plugin.com//7.2.3.1//EN
BEGIN:VEVENT
UID:123@southmaincreative.com
DTSTART:20180804T200000Z
DTEND:20180804T220000Z
DTSTAMP:20180803T175604Z
URL:https://southmaincreative.com/classes/intro-to-fine-silver-clay-with-m
 arianne-hennigar-5/
SUMMARY:Intro To Fine Silver Clay With Marianne Hennigar
DESCRIPTION:\n\nIn this beginner-level class\, Marianne H. Hennigar introdu
 ces basic skills for creating unique wearable treasures in fine silver cla
 y. Students will create small items suitable for earrings\, pendants and c
 harms. Marianne will also demo basic findings assembly\, so your pieces ar
 e ready to wear as soon as they are fired. $40 materials fee includes 16 g
 rams of fine silver (price may vary with market value of fine metals)\, fi
 ne silver wire\, double storage container\, kiln firing and polishing your
  work. No experience necessary. Age 14 +\, please.\n\n*Optional supplies w
 ill be available for purchase from Marianne.\n\nSaturday August 4\, 2018\,
  2:00 PM-4:30 PM\n\nClass fee is $67. A materials fee of $$40 will be due 
 to teacher at time of class.\n\nSpaces are limited\; online registration &
 amp\; payment are required to reserve your spot.
CATEGORIES:Art Classes,Crafts Classes
LOCATION:South Main Creative\, 1600 Main Street\, Little Rock\, Arkansas\, 
 72206\, United States
GEO:34.73335;-92.27327
X-APPLE-STRUCTURED-LOCATION;VALUE=URI;X-ADDRESS=1600 Main Street\, Little R
 ock\, Arkansas\, 72206\, United States;X-APPLE-RADIUS=100;X-TITLE=South Ma
 in Creative:geo:34.73335,-92.27327
END:VEVENT
END:VCALENDAR