BEGIN:VCALENDAR
VERSION:2.0
PRODID:-//wp-events-plugin.com//7.2.3.1//EN
BEGIN:VEVENT
UID:95@southmaincreative.com
DTSTART:20180424T233000Z
DTEND:20180425T013000Z
DTSTAMP:20180419T155201Z
URL:https://southmaincreative.com/classes/mold-making-101/
SUMMARY:Mold Making 101
DESCRIPTION:\n\nJoin Marianne Hennigar and learn some fun mold-making techn
 iques with a non-toxic\, food safe silicon mold material. Molds can be use
 d to cast with PMC clay\, resin\, plaster\, wax and other materials\, some
  of which will be demonstrated in class to test your molds. Once you know 
 how\, you can incorporate molded pieces in jewelry making\, collage\, asse
 mblage\, ceramics and other art! No experience necessary. Ages 14 and up\,
  please.\n\n* Optional purchase of 6 oz. mold kit for $18.00\n\nTuesday Ap
 ril 24\, 2018\, 5:30 PM-7:30 PM\n\nClass fee is $$26. A materials fee of $
 $4 will be due to teacher at time of class. Spaces are limited\; online re
 gistration &amp\; payment is required to reserve your spot.
CATEGORIES:Art Classes,Crafts Classes,DIY Classes
LOCATION:South Main Creative\, 1600 Main Street\, Little Rock\, Arkansas\, 
 72206\, United States
GEO:34.73335;-92.27327
X-APPLE-STRUCTURED-LOCATION;VALUE=URI;X-ADDRESS=1600 Main Street\, Little R
 ock\, Arkansas\, 72206\, United States;X-APPLE-RADIUS=100;X-TITLE=South Ma
 in Creative:geo:34.73335,-92.27327
END:VEVENT
END:VCALENDAR