BEGIN:VCALENDAR
VERSION:2.0
PRODID:-//wp-events-plugin.com//7.2.3.1//EN
BEGIN:VEVENT
UID:11@southmaincreative.com
DTSTART:20161008T160000Z
DTEND:20161008T180000Z
DTSTAMP:20160922T205814Z
URL:https://southmaincreative.com/classes/needle-felted-pumpkin-class/
SUMMARY:Needle-Felted Pumpkin Class
DESCRIPTION:\n\nFall is just around the corner. For real. Make an adorable 
 needle-felted wool pumpkin while you acquire skills to make a whole patch!
  Debbie Diener from Whispering Wool will teach you what you need to know i
 n this beginner class. Open to ages 10 and up. Class fee is $30\, supplies
  fee of $10 due to teacher at class time. Additional supplies will be avai
 lable for purchase.
LOCATION:South Main Creative\, 1600 Main Street\, Little Rock\, Arkansas\, 
 72206\, United States
GEO:34.73335;-92.27327
X-APPLE-STRUCTURED-LOCATION;VALUE=URI;X-ADDRESS=1600 Main Street\, Little R
 ock\, Arkansas\, 72206\, United States;X-APPLE-RADIUS=100;X-TITLE=South Ma
 in Creative:geo:34.73335,-92.27327
END:VEVENT
END:VCALENDAR