BEGIN:VCALENDAR
VERSION:2.0
PRODID:-//wp-events-plugin.com//7.2.3.1//EN
BEGIN:VEVENT
UID:305@southmaincreative.com
DTSTART;TZID=America/Chicago:20241116T103000
DTEND;TZID=America/Chicago:20241116T123000
DTSTAMP:20241115T172311Z
URL:https://southmaincreative.com/classes/needle-felted-wool-melting-snowm
 an-class/
SUMMARY:Needle-Felted Wool Melting Snowman Class
DESCRIPTION:\n\nJoin Debbie of Whispering Wool for a fun holiday needle-fel
 ting class suitable for all skill levels! This l’il snowman will melt yo
 ur heart with his can-do attitude and everlasting smile. The materials fee
  covers enough supplies for two snowmen and includes a specialty felting n
 eedle and a foam pad\, colored wools\, bells\, and a bitty scarf. You’ll
  complete one snowman in this two-hour class. Additional felting supplies 
 will be available for purchase\, 'cause we know you'll be hooked! Open to 
 ages 10 (with accompanying adult) and up.\n\nSaturday November 16\, 2024\,
  10:30 AM-12:30 PM\n\nClass fee is $40. A materials fee of $30 will be due
  to teacher at time of class.\n\nSpaces are limited\; online registration 
 &amp\; payment are required to reserve your spot. No refunds.
CATEGORIES:Crafts Classes
LOCATION:South Main Creative\, 1600 Main Street\, Little Rock\, Arkansas\, 
 72206\, United States
GEO:34.73335;-92.27327
X-APPLE-STRUCTURED-LOCATION;VALUE=URI;X-ADDRESS=1600 Main Street\, Little R
 ock\, Arkansas\, 72206\, United States;X-APPLE-RADIUS=100;X-TITLE=South Ma
 in Creative:geo:34.73335,-92.27327
END:VEVENT
BEGIN:VTIMEZONE
TZID:America/Chicago
X-LIC-LOCATION:America/Chicago
BEGIN:STANDARD
DTSTART:20241103T010000
TZOFFSETFROM:-0500
TZOFFSETTO:-0600
TZNAME:CST
END:STANDARD
END:VTIMEZONE
END:VCALENDAR