BEGIN:VCALENDAR
VERSION:2.0
PRODID:-//wp-events-plugin.com//7.2.3.1//EN
BEGIN:VEVENT
UID:127@southmaincreative.com
DTSTART:20180922T163000Z
DTEND:20180922T213000Z
DTSTAMP:20180921T194641Z
URL:https://southmaincreative.com/classes/needle-felted-wool-mini-bear-rug
 /
SUMMARY:Needle-Felted Wool Mini Bear Rug
DESCRIPTION:\n\nIn this needle-felting class\, Debbie of Whispering Wool wi
 ll teach participants how to make this adorable mini bear rug designed by 
 Felting Farmer Lady\; no hunting required! Wouldn’t he make a great cent
 erpiece or a wonderful Christmas gift? Students will learn to build the fo
 rm and fashion the head\, adding details for personality. The most fun par
 t will be adding the curly locks to create the pelt! Start the pelt in cla
 ss and finish at home. Debbie will have an assortment of beautiful natural
  locks from which to choose. Can you even bear the cuteness? No felting ex
 perience necessary.\nBring a sack lunch and beverage to have during the ½
  hour break.\n\nSaturday\, September 22 10:30 AM-3:30 PM\n\nClass cost: $4
 5\nMaterials fee: $50\nMaterials includes a specially barbed needle\, felt
 ing surface\, felt\, wools and curly locks.\n\nAge 14+\n\nSaturday Septemb
 er 22\, 2018\, 10:30 AM-3:30 PM\n\nClass fee is $45. A materials fee of $5
 0 will be due to teacher at time of class.\n\nSpaces are limited\; online 
 registration &amp\; payment are required to reserve your spot.\n\n&nbsp\;
CATEGORIES:Art Classes,Crafts Classes
LOCATION:South Main Creative\, 1600 Main Street\, Little Rock\, Arkansas\, 
 72206\, United States
GEO:34.73335;-92.27327
X-APPLE-STRUCTURED-LOCATION;VALUE=URI;X-ADDRESS=1600 Main Street\, Little R
 ock\, Arkansas\, 72206\, United States;X-APPLE-RADIUS=100;X-TITLE=South Ma
 in Creative:geo:34.73335,-92.27327
END:VEVENT
END:VCALENDAR