BEGIN:VCALENDAR
VERSION:2.0
PRODID:-//wp-events-plugin.com//7.2.3.1//EN
BEGIN:VEVENT
UID:104@southmaincreative.com
DTSTART:20180602T233000Z
DTEND:20180603T023000Z
DTSTAMP:20180524T154203Z
URL:https://southmaincreative.com/classes/painting-with-wool-by-dani-ives-
 2/
SUMMARY:Painting With Wool by Dani Ives
DESCRIPTION:\n\nJoin us for this fun and super-informative needle-felting w
 orkshop taught by Dani Ives of @begoodnatured! Explore the art of Painting
  With Wool and learn lots of two-dimensional needle-felting techniques you
 ’ll be able to apply to your own tastes and style.  Your materials kit 
 (that you’ll use and take home after class) will include everything need
 ed to finish multiple projects: felting foam pad\, felting needles in two 
 sizes\, various fabric for backgrounds\, a 6” embroidery hoop and lots o
 f wool!\nAfter an introduction to basics\, Dani will dive into more specif
 ic methods to build up your felting skills. Discussion and demonstrations 
 include getting an image onto your fabric\, different techniques for blend
 ing colors\, and how to achieve fine details and various textures.\nYou ca
 n work at your own pace and Dani will provide one-on-one assistance as nee
 ded. Come with an idea or two of something you’d like to create! Bring y
 our reference photos on your phone or printed (approx. 5” x 7”) on pap
 er if you’d like to transfer it directly rather than sketching it. (Dani
  is happy to answer any questions or help you choose the project you'd lik
 e to work on\, her email is: hello@daniives.com)\nYou’ll also get free a
 ccess to Dani’s online felting course\, Felt With Me\, (www.feltwithme.c
 om\, $65 value).  This course will provide you with additional projects\,
  lessons and help you refresh what you learned in the workshop. Yay!\nAge 
 14+\, please.\n\nSaturday June 2\, 2018\, 5:30 - 8:30 PM\n\nClass fee is $
 95. A materials fee of $25 will be due to teacher at time of class.\n\nSpa
 ces are limited\; online registration &amp\; payment are required to reser
 ve your spot.
CATEGORIES:Art Classes,Crafts Classes,DIY Classes
LOCATION:South Main Creative\, 1600 Main Street\, Little Rock\, Arkansas\, 
 72206\, United States
GEO:34.73335;-92.27327
X-APPLE-STRUCTURED-LOCATION;VALUE=URI;X-ADDRESS=1600 Main Street\, Little R
 ock\, Arkansas\, 72206\, United States;X-APPLE-RADIUS=100;X-TITLE=South Ma
 in Creative:geo:34.73335,-92.27327
END:VEVENT
END:VCALENDAR