BEGIN:VCALENDAR
VERSION:2.0
PRODID:-//wp-events-plugin.com//7.2.3.1//EN
BEGIN:VEVENT
UID:254@southmaincreative.com
DTSTART;TZID=America/Chicago:20220430T103000
DTEND;TZID=America/Chicago:20220430T143000
DTSTAMP:20220427T161159Z
URL:https://southmaincreative.com/classes/paper-flower-daffodils/
SUMMARY:Paper Flower Daffodils
DESCRIPTION:\n\nJoin Debbie of @whisperingwool for this wonderful paper flo
 wer class! You'll learn basics and so much more while creating 2 of these 
 incredibly lifelike daffodils! Techniques include cutting\, sculpting\, wr
 apping\, hand-coloring\, and gluing. Learn how to form\, mold\, press\, st
 retch\, and twist special crepe paper into delicate petal and leaf shapes 
 to create these lasting beauties. Make an entire bouquet once you know how
 ! Age 12 and up\, please.\n\nNote: Since we'll be working through lunch ti
 me\, you may want to bring a snack. (We don't want anyone getting hangry w
 ith sharp needles around!)\n\nSupplies include: paper pattern\, 2 flower s
 tems\, 5 floral wires for leaves\, floral tape\, German crepe paper in yel
 low\, white and green. Students will have use of scissors\, glue\, colorin
 g pen and alcohol for color shading.\n\nClass limited to 4 participants. M
 ask required.\n\nSaturday April 30\, 2022\, 10:30 AM-2:30 PM\n\nClass fee 
 is $65. A materials fee of $20 will be due to teacher at time of class.\n\
 nSpaces are limited\; online registration &amp\; payment are required to r
 eserve your spot. No refunds.
CATEGORIES:Crafts Classes,DIY Classes
LOCATION:South Main Creative\, 1600 Main Street\, Little Rock\, Arkansas\, 
 72206\, United States
GEO:34.73335;-92.27327
X-APPLE-STRUCTURED-LOCATION;VALUE=URI;X-ADDRESS=1600 Main Street\, Little R
 ock\, Arkansas\, 72206\, United States;X-APPLE-RADIUS=100;X-TITLE=South Ma
 in Creative:geo:34.73335,-92.27327
END:VEVENT
BEGIN:VTIMEZONE
TZID:America/Chicago
X-LIC-LOCATION:America/Chicago
BEGIN:DAYLIGHT
DTSTART:20220313T030000
TZOFFSETFROM:-0600
TZOFFSETTO:-0500
TZNAME:CDT
END:DAYLIGHT
END:VTIMEZONE
END:VCALENDAR