BEGIN:VCALENDAR
VERSION:2.0
PRODID:-//wp-events-plugin.com//7.2.3.1//EN
BEGIN:VEVENT
UID:251@southmaincreative.com
DTSTART;TZID=America/Chicago:20220409T140000
DTEND;TZID=America/Chicago:20220409T160000
DTSTAMP:20220302T212413Z
URL:https://southmaincreative.com/classes/punch-needle-embroidery-basics-2
 /
SUMMARY:Punch Needle Embroidery Basics
DESCRIPTION:\n\nLearn the basics of the wildly popular fiber arts technique
  in this fun class! Susan of SWS Makes will guide you through the steps to
  create a small mushroom-scape design. Susan will share with you hints and
  tips she has learned through her own experimentation that will make your 
 punch needle journey carefree. You'll be on your way to so many precious p
 rojects with your new skills!\n\nMaterials fee includes: Ultrapunch Needle
  Set (includes tool\, 3 sizes of needles\, two threaders and instruction b
 ooklet)\, premium weavers cloth\, embroidery hoops (2 sizes)\, embroidery 
 floss\, embroidery needle\, and informative handout.\n\nClass is limited t
 o 4 participants to allow for distancing. Proof of Covid-19 vaccination an
 d masks required.\n\n&nbsp\;\n\nSaturday April 9\, 2022\, 2:00 PM-4:00 PM\
 n\nClass fee is $35. A materials fee of $40 will be due to teacher at time
  of class.\n\nSpaces are limited\; online registration &amp\; payment are 
 required to reserve your spot. No refunds.
CATEGORIES:Crafts Classes,DIY Classes
LOCATION:South Main Creative\, 1600 Main Street\, Little Rock\, Arkansas\, 
 72206\, United States
GEO:34.73335;-92.27327
X-APPLE-STRUCTURED-LOCATION;VALUE=URI;X-ADDRESS=1600 Main Street\, Little R
 ock\, Arkansas\, 72206\, United States;X-APPLE-RADIUS=100;X-TITLE=South Ma
 in Creative:geo:34.73335,-92.27327
END:VEVENT
BEGIN:VTIMEZONE
TZID:America/Chicago
X-LIC-LOCATION:America/Chicago
BEGIN:DAYLIGHT
DTSTART:20220313T030000
TZOFFSETFROM:-0600
TZOFFSETTO:-0500
TZNAME:CDT
END:DAYLIGHT
END:VTIMEZONE
END:VCALENDAR