BEGIN:VCALENDAR
VERSION:2.0
PRODID:-//wp-events-plugin.com//7.2.3.1//EN
BEGIN:VEVENT
UID:18@southmaincreative.com
DTSTART:20161217T203000Z
DTEND:20161217T223000Z
DTSTAMP:20161130T214501Z
URL:https://southmaincreative.com/classes/sewing-for-santa-with-mrs-claus/
SUMMARY:Sewing for Santa with Mrs. Claus
DESCRIPTION:A separate sewing kit fee of $7 due to Mrs. Claus at class time
 !
CATEGORIES:Crafts Classes,DIY Classes
LOCATION:South Main Creative\, 1600 Main Street\, Little Rock\, Arkansas\, 
 72206\, United States
GEO:34.73335;-92.27327
X-APPLE-STRUCTURED-LOCATION;VALUE=URI;X-ADDRESS=1600 Main Street\, Little R
 ock\, Arkansas\, 72206\, United States;X-APPLE-RADIUS=100;X-TITLE=South Ma
 in Creative:geo:34.73335,-92.27327
END:VEVENT
END:VCALENDAR