BEGIN:VCALENDAR
VERSION:2.0
PRODID:-//wp-events-plugin.com//7.2.3.1//EN
BEGIN:VEVENT
UID:151@southmaincreative.com
DTSTART:20190316T163000Z
DTEND:20190316T203000Z
DTSTAMP:20190210T223854Z
URL:https://southmaincreative.com/classes/sleeping-baby-dragon-in-needle-f
 elted-wool/
SUMMARY:Sleeping Baby Dragon in Needle-Felted Wool
DESCRIPTION:\n\nDid you know you can make magic out of wool? Debbie Diener 
 of Whispering Wool shows us how in this fun beginner to intermediate needl
 e-felting class! Make this magical sleeping baby dragon while learning all
  kinds of techniques to get you started on your needle-felting journey. St
 arting with a pipe cleaner as an armature\, you’ll learn to wrap and bui
 ld form\, create legs and wings\, and add adorable little details to breat
 he life into your baby dragon. He may fit in the palm of your hand\, but h
 e’s dreaming of growing into his wings! Materials fee covers a felting n
 eedle and pad and enough wool for your project. Debbie will have a selecti
 on of wool for purchase so you can make more at home! Age 14+\, please. Br
 ing a sack lunch for the half-hour lunch break!\n\nSaturday March 16\, 201
 9\, 10:30 AM-2:30 PM\n\nClass fee is $40. A materials fee of $10 will be d
 ue to teacher at time of class.\n\nSpaces are limited\; online registratio
 n &amp\; payment are required to reserve your spot.
CATEGORIES:Crafts Classes,DIY Classes
LOCATION:South Main Creative\, 1600 Main Street\, Little Rock\, Arkansas\, 
 72206\, United States
GEO:34.73335;-92.27327
X-APPLE-STRUCTURED-LOCATION;VALUE=URI;X-ADDRESS=1600 Main Street\, Little R
 ock\, Arkansas\, 72206\, United States;X-APPLE-RADIUS=100;X-TITLE=South Ma
 in Creative:geo:34.73335,-92.27327
END:VEVENT
END:VCALENDAR