BEGIN:VCALENDAR
VERSION:2.0
PRODID:-//wp-events-plugin.com//7.2.3.1//EN
BEGIN:VEVENT
UID:332@southmaincreative.com
DTSTART;TZID=America/Chicago:20260425T140000
DTEND;TZID=America/Chicago:20260425T170000
DTSTAMP:20260415T165654Z
URL:https://southmaincreative.com/classes/stained-glass-studio-with-kately
 n-2/
SUMMARY:Stained Glass Studio with Katelyn
DESCRIPTION:\n\nTake advantage of open studio time with Katelyn standing 
 by to assist! This open studio is open only to students of Katelyn’s (e
 ither at SMC or The HUB) who have some experience with stained glass work.
  In this 3-hour time slot\, you will have access to all the tools you nee
 d\, including cutters\, grinders\, and soldering set-up. Katelyn’s exper
 tise is a bonus! A supply fee of $20 will cover some glass\, foil tape\, s
 older\, safety glasses\, and cleaning supplies. An extra selection of glas
 s choices will be available for purchase as well.\n\nClosed-toe shoes and 
 long pants are required. Only 3 spots available per session.\n\nSign up fo
 r more than one if you are feeling creative! Get those one-of-a-kind handm
 ade Mother’s Day\, Father’s Day\, birthday\, and Christmas gifts taken
  care of!\n\nSaturday April 25\, 2026\, 2 pm-5 pm\n\nStudio fee is $60. A 
 materials fee of $20 will be due to teacher at time of class.\n\nSpaces ar
 e limited\; online registration &amp\; payment are required to reserve you
 r spot. No refunds.
CATEGORIES:DIY Classes
LOCATION:South Main Creative\, 1600 Main Street\, Little Rock\, Arkansas\, 
 72206\, United States
GEO:34.73335;-92.27327
X-APPLE-STRUCTURED-LOCATION;VALUE=URI;X-ADDRESS=1600 Main Street\, Little R
 ock\, Arkansas\, 72206\, United States;X-APPLE-RADIUS=100;X-TITLE=South Ma
 in Creative:geo:34.73335,-92.27327
END:VEVENT
BEGIN:VTIMEZONE
TZID:America/Chicago
X-LIC-LOCATION:America/Chicago
BEGIN:DAYLIGHT
DTSTART:20260308T030000
TZOFFSETFROM:-0600
TZOFFSETTO:-0500
TZNAME:CDT
END:DAYLIGHT
END:VTIMEZONE
END:VCALENDAR