BEGIN:VCALENDAR
VERSION:2.0
PRODID:-//wp-events-plugin.com//7.2.3.1//EN
BEGIN:VEVENT
UID:331@southmaincreative.com
DTSTART;TZID=America/Chicago:20260425T100000
DTEND;TZID=America/Chicago:20260425T130000
DTSTAMP:20260415T165349Z
URL:https://southmaincreative.com/classes/stained-glass-studio-with-kately
 n/
SUMMARY:Stained Glass Studio with Katelyn
DESCRIPTION:\n\nTake advantage of open studio time with Katelyn standing by
  to assist! This open studio is open only to students of Katelyn’s (eith
 er at SMC or The HUB) who have some experience with stained glass work. In
  this 3-hour time slot\, you will have access to all the tools you need\, 
 including cutters\, grinders\, and soldering set-up. Katelyn’s expertise
  is a bonus! A supply fee of $20 will cover some glass\, foil tape\, solde
 r\, safety glasses\, and cleaning supplies. An extra selection of glass ch
 oices will be available for purchase as well.\n\nClosed-toe shoes and long
  pants are required. Only 3 spots available per session.\n\nSign up for mo
 re than one if you are feeling creative! Get those one-of-a-kind handmade 
 Mother’s Day\, Father’s Day\, birthday\, and Christmas gifts taken car
 e of!\n\nSaturday April 25\, 2026\, 10 am-1 pm\n\nStudio fee is $60. A mat
 erials fee of $20 will be due to teacher at time of class.\n\nSpaces are l
 imited\; online registration &amp\; payment are required to reserve your s
 pot. No refunds.
CATEGORIES:DIY Classes
LOCATION:South Main Creative\, 1600 Main Street\, Little Rock\, Arkansas\, 
 72206\, United States
GEO:34.73335;-92.27327
X-APPLE-STRUCTURED-LOCATION;VALUE=URI;X-ADDRESS=1600 Main Street\, Little R
 ock\, Arkansas\, 72206\, United States;X-APPLE-RADIUS=100;X-TITLE=South Ma
 in Creative:geo:34.73335,-92.27327
END:VEVENT
BEGIN:VTIMEZONE
TZID:America/Chicago
X-LIC-LOCATION:America/Chicago
BEGIN:DAYLIGHT
DTSTART:20260308T030000
TZOFFSETFROM:-0600
TZOFFSETTO:-0500
TZNAME:CDT
END:DAYLIGHT
END:VTIMEZONE
END:VCALENDAR