BEGIN:VCALENDAR
VERSION:2.0
PRODID:-//wp-events-plugin.com//7.2.3.1//EN
BEGIN:VEVENT
UID:163@southmaincreative.com
DTSTART:20190714T210000Z
DTEND:20190714T230000Z
DTSTAMP:20190602T174651Z
URL:https://southmaincreative.com/classes/sweet-vs-sassy-diy-paint-class-w
 ith-peace-love-patina-2/
SUMMARY:Sweet vs. Sassy DIY Paint class with Peace Love Patina
DESCRIPTION:\n\nJoin Kim of Peace Love Patina to experience Debi’s Design
  Diary DIY Paints. These paints are loaded with gorgeous pigment and are s
 o fun to use! Learn unusual techniques for creating really “sassy” fun
 ky\, chunky layered color and the “sweeter” version of more subtle lay
 ered tones. Try both and we’ll find out who’s sweet and who’s sassy!
  You’ll learn about different finishing options and go home with painted
  framed panels worthy of making into a sign\, a jewelry hanger\, or whatev
 er your creativity inspires! Materials fee covers framed panels\, paints\,
  finishes\, and tools and brushes to use during class. Students receive a 
 10% discount on DIY Paint and Paint Pixie brushes the day of the class!\n\
 nSunday July 14\, 2019\, 3 PM-5 PM\n\nClass fee is $25. A materials fee of
  $15 will be due to teacher at time of class.\n\nSpaces are limited\; onli
 ne registration &amp\; payment are required to reserve your spot.
CATEGORIES:Art Classes,Crafts Classes,DIY Classes
LOCATION:South Main Creative\, 1600 Main Street\, Little Rock\, Arkansas\, 
 72206\, United States
GEO:34.73335;-92.27327
X-APPLE-STRUCTURED-LOCATION;VALUE=URI;X-ADDRESS=1600 Main Street\, Little R
 ock\, Arkansas\, 72206\, United States;X-APPLE-RADIUS=100;X-TITLE=South Ma
 in Creative:geo:34.73335,-92.27327
END:VEVENT
END:VCALENDAR