BEGIN:VCALENDAR
VERSION:2.0
PRODID:-//wp-events-plugin.com//7.2.3.1//EN
BEGIN:VEVENT
UID:180@southmaincreative.com
DTSTART:20190928T190000Z
DTEND:20190928T230000Z
DTSTAMP:20190908T190514Z
URL:https://southmaincreative.com/classes/traditional-rug-hooking-with-vic
 ki-karolson/
SUMMARY:Traditional Rug Hooking with Vicki Karolson
DESCRIPTION:\n\nJoin Vicki and learn the art and craft of traditional rug h
 ooking with wool. You will receive detailed instructions and learn the bas
 ic skills needed to create this adorable 8" x 10" sunflower mat and many m
 ore future projects. Imagine how fun it will be to keep this tradition ali
 ve!\n\nMaterials fee covers:\n-hand-drawn pattern\n-base and wool to compl
 ete project\n-rug hook\n-hoop\n-scissors\n-needle and thread for finishing
 \nSupplies come in a project tote bag.\n\nParticipants will leave with a f
 inished 8 x 10 hooked mat that can be a wall hanging\, or sewn onto a pill
 ow or tote bag. The possibilities are endless!\n\nClass fee $55\nSupplies 
 $40\n\nSaturday September 28\, 2019\, 1:00 PM-5:00 PM\n\nClass fee is $55.
  A materials fee of $40 will be due to teacher at time of class.\n\nSpaces
  are limited\; online registration &amp\; payment are required to reserve 
 your spot.
CATEGORIES:Art Classes,Crafts Classes,DIY Classes
LOCATION:South Main Creative\, 1600 Main Street\, Little Rock\, Arkansas\, 
 72206\, United States
GEO:34.73335;-92.27327
X-APPLE-STRUCTURED-LOCATION;VALUE=URI;X-ADDRESS=1600 Main Street\, Little R
 ock\, Arkansas\, 72206\, United States;X-APPLE-RADIUS=100;X-TITLE=South Ma
 in Creative:geo:34.73335,-92.27327
END:VEVENT
END:VCALENDAR