BEGIN:VCALENDAR
VERSION:2.0
PRODID:-//wp-events-plugin.com//7.2.3.1//EN
BEGIN:VEVENT
UID:69@southmaincreative.com
DTSTART:20171130T233000Z
DTEND:20171201T013000Z
DTSTAMP:20171129T004658Z
URL:https://southmaincreative.com/classes/upcycled-vintage-jewelry-christm
 as-ornament/
SUMMARY:Upcycled Vintage Jewelry Christmas Ornament
DESCRIPTION:\n\nWe need a little (Vintage) Christmas!\n\nAdd a little vinta
 ge to your Christmas tree! Learn to make upcycled ornaments using your own
  family keepsakes such as earrings\, buttons\, lace and ribbon. Taught by 
 Ann Clements of Sparklythangs\, participants will learn various basic asse
 mbly techniques such as punching\, wiring\, and drilling (including Dremel
  use) and how to instantly age metal. Bring your old buttons\, small jewel
 ry/rhinestone pieces\, old Christmas cards\, vintage ribbons and ephemera.
  We will also have a selection of affordable vintage items available for p
 urchase. Tart tins\, jewelry wire\, chandelier crystals and use of tools a
 re included in the $6 materials fee. Snacks and wine will be close at hand
 .\n\nThursday November 30\, 5:30-7:30 PM\n\nClass fee is $25. A materials 
 fee of $6 will be due to teacher at time of class. Spaces are limited\, re
 gistration is required.\n\n&nbsp\;
CATEGORIES:Crafts Classes,DIY Classes
LOCATION:South Main Creative\, 1600 Main Street\, Little Rock\, Arkansas\, 
 72206\, United States
GEO:34.73335;-92.27327
X-APPLE-STRUCTURED-LOCATION;VALUE=URI;X-ADDRESS=1600 Main Street\, Little R
 ock\, Arkansas\, 72206\, United States;X-APPLE-RADIUS=100;X-TITLE=South Ma
 in Creative:geo:34.73335,-92.27327
END:VEVENT
END:VCALENDAR